BEGIN:VCALENDAR
VERSION:2.0
PRODID:-//Union Sportive Bernardière Cugand - ECPv6.7.0//NONSGML v1.0//EN
CALSCALE:GREGORIAN
METHOD:PUBLISH
X-WR-CALNAME:Union Sportive Bernardière Cugand
X-ORIGINAL-URL:https://usbc85.fr
X-WR-CALDESC:Évènements pour Union Sportive Bernardière Cugand
REFRESH-INTERVAL;VALUE=DURATION:PT1H
X-Robots-Tag:noindex
X-PUBLISHED-TTL:PT1H
BEGIN:VTIMEZONE
TZID:Europe/Paris
BEGIN:DAYLIGHT
TZOFFSETFROM:+0100
TZOFFSETTO:+0200
TZNAME:CEST
DTSTART:20260329T010000
END:DAYLIGHT
BEGIN:STANDARD
TZOFFSETFROM:+0200
TZOFFSETTO:+0100
TZNAME:CET
DTSTART:20261025T010000
END:STANDARD
END:VTIMEZONE
BEGIN:VEVENT
DTSTART;TZID=Europe/Paris:20260424T080000
DTEND;TZID=Europe/Paris:20260424T170000
DTSTAMP:20260424T145105
CREATED:20250929T145053Z
LAST-MODIFIED:20250929T145054Z
UID:5826-1777017600-1777050000@usbc85.fr
SUMMARY:SOIREE DES BENEVOLES
DESCRIPTION:
URL:https://usbc85.fr/evenement/soiree-des-benevoles/
LOCATION:Stade du Vivier – La Bernardière\, Pl. de l'Église\, La Benardière\, Vendée\, 85610\, France
END:VEVENT
BEGIN:VEVENT
DTSTART;TZID=Europe/Paris:20260425T140000
DTEND;TZID=Europe/Paris:20260425T200000
DTSTAMP:20260424T145105
CREATED:20241014T190622Z
LAST-MODIFIED:20250929T144733Z
UID:5278-1777125600-1777147200@usbc85.fr
SUMMARY:TOURNOI FEETBALL
DESCRIPTION:
URL:https://usbc85.fr/evenement/tournoi-feetball/
LOCATION:Stade du Vivier – La Bernardière\, Pl. de l'Église\, La Benardière\, Vendée\, 85610\, France
END:VEVENT
BEGIN:VEVENT
DTSTART;TZID=Europe/Paris:20260606T090000
DTEND;TZID=Europe/Paris:20260606T210000
DTSTAMP:20260424T145105
CREATED:20240522T144050Z
LAST-MODIFIED:20250929T152929Z
UID:3246-1780736400-1780779600@usbc85.fr
SUMMARY:TOURNOI DE SIXTE
DESCRIPTION:ÉQUIPE DE 7 \n\n\n\nTOURNOI MASCULIN ET TOURNOI FÉMININ\n\n\n\nDES LOTS POUR TOUTES LES ÉQUIPES PARTICIPANTES !
URL:https://usbc85.fr/evenement/tournoi-de-sixte/
LOCATION:Stade du Vivier – La Bernardière\, Pl. de l'Église\, La Benardière\, Vendée\, 85610\, France
END:VEVENT
BEGIN:VEVENT
DTSTART;TZID=Europe/Paris:20260625T080000
DTEND;TZID=Europe/Paris:20260625T170000
DTSTAMP:20260424T145105
CREATED:20250929T150532Z
LAST-MODIFIED:20250929T150533Z
UID:5831-1782374400-1782406800@usbc85.fr
SUMMARY:ASSEMBLEE GENERALE
DESCRIPTION:
URL:https://usbc85.fr/evenement/assemblee-generale/
LOCATION:Stade du Vivier – La Bernardière\, Pl. de l'Église\, La Benardière\, Vendée\, 85610\, France
END:VEVENT
BEGIN:VEVENT
DTSTART;TZID=Europe/Paris:20260626T080000
DTEND;TZID=Europe/Paris:20260626T170000
DTSTAMP:20260424T145105
CREATED:20250929T150624Z
LAST-MODIFIED:20250929T150625Z
UID:5833-1782460800-1782493200@usbc85.fr
SUMMARY:NETTOYAGE DES STADES
DESCRIPTION:
URL:https://usbc85.fr/evenement/nettoyage-des-stades/
LOCATION:Vendée
END:VEVENT
BEGIN:VEVENT
DTSTART;TZID=Europe/Paris:20260816T080000
DTEND;TZID=Europe/Paris:20260816T170000
DTSTAMP:20260424T145105
CREATED:20250929T150734Z
LAST-MODIFIED:20250929T150735Z
UID:5835-1786867200-1786899600@usbc85.fr
SUMMARY:GALA
DESCRIPTION:
URL:https://usbc85.fr/evenement/gala/
LOCATION:Stade du Vivier – La Bernardière\, Pl. de l'Église\, La Benardière\, Vendée\, 85610\, France
END:VEVENT
END:VCALENDAR